BEGIN:VCALENDAR
VERSION:2.0
PRODID:-//Date iCal//NONSGML kigkonsult.se iCalcreator 2.20.2//
METHOD:PUBLISH
X-WR-CALNAME;VALUE=TEXT:LTCO Tax calendar
BEGIN:VTIMEZONE
TZID:Europe/Paris
BEGIN:STANDARD
DTSTART:20171029T030000
TZOFFSETFROM:+0200
TZOFFSETTO:+0100
TZNAME:CET
END:STANDARD
BEGIN:DAYLIGHT
DTSTART:20170326T020000
TZOFFSETFROM:+0100
TZOFFSETTO:+0200
RDATE:20180325T020000
TZNAME:CEST
END:DAYLIGHT
END:VTIMEZONE
BEGIN:VEVENT
UID:calendar.69.field_event_date.0@ltco.lu
DTSTAMP:20170621T210100Z
CREATED:20170302T115011Z
DESCRIPTION:Reporting due date
DTSTART;TZID=Europe/Paris:20170625T000000
DTEND;TZID=Europe/Paris:20170625T000000
LAST-MODIFIED:20170302T115011Z
SUMMARY:ESL online filing
URL;TYPE=URI:http://ltco.lu/content/esl-online-filing-4
END:VEVENT
BEGIN:VEVENT
UID:calendar.70.field_event_date.0@ltco.lu
DTSTAMP:20170621T210100Z
CREATED:20170302T115055Z
DESCRIPTION:Reporting due date
DTSTART;TZID=Europe/Paris:20170706T000000
DTEND;TZID=Europe/Paris:20170706T000000
LAST-MODIFIED:20170302T115055Z
SUMMARY:Intrastat reporting
URL;TYPE=URI:http://ltco.lu/content/intrastat-reporting-7
END:VEVENT
BEGIN:VEVENT
UID:calendar.71.field_event_date.0@ltco.lu
DTSTAMP:20170621T210100Z
CREATED:20170302T115126Z
DESCRIPTION:Reporting + Payment due date
DTSTART;TZID=Europe/Paris:20170715T000000
DTEND;TZID=Europe/Paris:20170715T000000
LAST-MODIFIED:20170302T115126Z
SUMMARY:VAT reporting & payment and ESL paper filing
URL;TYPE=URI:http://ltco.lu/content/vat-reporting-payment-and-esl-paper-fil
 ing-5
END:VEVENT
BEGIN:VEVENT
UID:calendar.72.field_event_date.0@ltco.lu
DTSTAMP:20170621T210100Z
CREATED:20170302T115201Z
DESCRIPTION:Reporting due date
DTSTART;TZID=Europe/Paris:20170725T000000
DTEND;TZID=Europe/Paris:20170725T000000
LAST-MODIFIED:20170302T115201Z
SUMMARY:ESL online filing
URL;TYPE=URI:http://ltco.lu/content/esl-online-filing-5
END:VEVENT
BEGIN:VEVENT
UID:calendar.73.field_event_date.0@ltco.lu
DTSTAMP:20170621T210100Z
CREATED:20170302T115357Z
DESCRIPTION:Reporting due date
DTSTART;TZID=Europe/Paris:20170806T000000
DTEND;TZID=Europe/Paris:20170806T000000
LAST-MODIFIED:20170302T115357Z
SUMMARY:Intrastat reporting
URL;TYPE=URI:http://ltco.lu/content/intrastat-reporting-8
END:VEVENT
BEGIN:VEVENT
UID:calendar.74.field_event_date.0@ltco.lu
DTSTAMP:20170621T210100Z
CREATED:20170302T115430Z
DESCRIPTION:Tax Advances
DTSTART;TZID=Europe/Paris:20170810T000000
DTEND;TZID=Europe/Paris:20170810T000000
LAST-MODIFIED:20170302T115430Z
SUMMARY:MBT & NWT advances
URL;TYPE=URI:http://ltco.lu/content/mbt-nwt-advances-1
END:VEVENT
BEGIN:VEVENT
UID:calendar.76.field_event_date.0@ltco.lu
DTSTAMP:20170621T210100Z
CREATED:20170302T115550Z
DESCRIPTION:Reporting due date
DTSTART;TZID=Europe/Paris:20170825T000000
DTEND;TZID=Europe/Paris:20170825T000000
LAST-MODIFIED:20170302T115550Z
SUMMARY:ESL online filing
URL;TYPE=URI:http://ltco.lu/content/esl-online-filing-6
END:VEVENT
BEGIN:VEVENT
UID:calendar.77.field_event_date.0@ltco.lu
DTSTAMP:20170621T210100Z
CREATED:20170302T115717Z
DESCRIPTION:Reporting due date
DTSTART;TZID=Europe/Paris:20170906T000000
DTEND;TZID=Europe/Paris:20170906T000000
LAST-MODIFIED:20170302T115717Z
SUMMARY:Intrastat reporting
URL;TYPE=URI:http://ltco.lu/content/intrastat-reporting-9
END:VEVENT
BEGIN:VEVENT
UID:calendar.78.field_event_date.0@ltco.lu
DTSTAMP:20170621T210100Z
CREATED:20170302T115808Z
DESCRIPTION:Tax Advances
DTSTART;TZID=Europe/Paris:20170910T000000
DTEND;TZID=Europe/Paris:20170910T000000
LAST-MODIFIED:20170302T115808Z
SUMMARY:CIT advances
URL;TYPE=URI:http://ltco.lu/content/cit-advances-1
END:VEVENT
BEGIN:VEVENT
UID:calendar.79.field_event_date.0@ltco.lu
DTSTAMP:20170621T210100Z
CREATED:20170302T115836Z
DESCRIPTION:Reporting + Payment due date
DTSTART;TZID=Europe/Paris:20170915T000000
DTEND;TZID=Europe/Paris:20170915T000000
LAST-MODIFIED:20170302T115836Z
SUMMARY:VAT reporting & payment and ESL paper filing
URL;TYPE=URI:http://ltco.lu/content/vat-reporting-payment-and-esl-paper-fil
 ing-7
END:VEVENT
BEGIN:VEVENT
UID:calendar.80.field_event_date.0@ltco.lu
DTSTAMP:20170621T210100Z
CREATED:20170302T115907Z
DESCRIPTION:Reporting due date
DTSTART;TZID=Europe/Paris:20170925T000000
DTEND;TZID=Europe/Paris:20170925T000000
LAST-MODIFIED:20170302T115907Z
SUMMARY:ESL online filing
URL;TYPE=URI:http://ltco.lu/content/esl-online-filing-7
END:VEVENT
BEGIN:VEVENT
UID:calendar.81.field_event_date.0@ltco.lu
DTSTAMP:20170621T210100Z
CREATED:20170302T115936Z
DESCRIPTION:Reporting due date
DTSTART;TZID=Europe/Paris:20171006T000000
DTEND;TZID=Europe/Paris:20171006T000000
LAST-MODIFIED:20170302T115936Z
SUMMARY:Intrastat reporting
URL;TYPE=URI:http://ltco.lu/content/intrastat-reporting-10
END:VEVENT
BEGIN:VEVENT
UID:calendar.82.field_event_date.0@ltco.lu
DTSTAMP:20170621T210100Z
CREATED:20170302T120007Z
DESCRIPTION:Reporting + Payment due date
DTSTART;TZID=Europe/Paris:20171015T000000
DTEND;TZID=Europe/Paris:20171015T000000
LAST-MODIFIED:20170302T120007Z
SUMMARY:VAT reporting & payment and ESL paper filing
URL;TYPE=URI:http://ltco.lu/content/vat-reporting-payment-and-esl-paper-fil
 ing-8
END:VEVENT
BEGIN:VEVENT
UID:calendar.83.field_event_date.0@ltco.lu
DTSTAMP:20170621T210100Z
CREATED:20170302T120033Z
DESCRIPTION:Reporting due date
DTSTART;TZID=Europe/Paris:20171025T000000
DTEND;TZID=Europe/Paris:20171025T000000
LAST-MODIFIED:20170302T120033Z
SUMMARY:ESL online filing
URL;TYPE=URI:http://ltco.lu/content/esl-online-filing-8
END:VEVENT
BEGIN:VEVENT
UID:calendar.84.field_event_date.0@ltco.lu
DTSTAMP:20170621T210100Z
CREATED:20170302T120127Z
DESCRIPTION:Reporting + Payment due date
DTSTART;TZID=Europe/Paris:20171031T000000
DTEND;TZID=Europe/Paris:20171031T000000
LAST-MODIFIED:20170302T120127Z
SUMMARY:Annual VAT reporting and payment if single or simplified annual ret
 urn - final deadline
URL;TYPE=URI:http://ltco.lu/content/annual-vat-reporting-and-payment-if-sin
 gle-or-simplified-annual-return-final-deadline
END:VEVENT
BEGIN:VEVENT
UID:calendar.85.field_event_date.0@ltco.lu
DTSTAMP:20170621T210100Z
CREATED:20170302T120220Z
DESCRIPTION:Reporting due date
DTSTART;TZID=Europe/Paris:20171106T000000
DTEND;TZID=Europe/Paris:20171106T000000
LAST-MODIFIED:20170302T120220Z
SUMMARY:Intrastat reporting
URL;TYPE=URI:http://ltco.lu/content/intrastat-reporting-11
END:VEVENT
BEGIN:VEVENT
UID:calendar.86.field_event_date.0@ltco.lu
DTSTAMP:20170621T210100Z
CREATED:20170302T120245Z
DESCRIPTION:Tax Advances
DTSTART;TZID=Europe/Paris:20171110T000000
DTEND;TZID=Europe/Paris:20171110T000000
LAST-MODIFIED:20170302T120245Z
SUMMARY:MBT & NWT advances
URL;TYPE=URI:http://ltco.lu/content/mbt-nwt-advances-2
END:VEVENT
BEGIN:VEVENT
UID:calendar.87.field_event_date.0@ltco.lu
DTSTAMP:20170621T210100Z
CREATED:20170302T120317Z
DESCRIPTION:Reporting + Payment due date
DTSTART;TZID=Europe/Paris:20171115T000000
DTEND;TZID=Europe/Paris:20171115T000000
LAST-MODIFIED:20170302T120317Z
SUMMARY:VAT reporting & payment and ESL paper filing
URL;TYPE=URI:http://ltco.lu/content/vat-reporting-payment-and-esl-paper-fil
 ing-9
END:VEVENT
BEGIN:VEVENT
UID:calendar.88.field_event_date.0@ltco.lu
DTSTAMP:20170621T210100Z
CREATED:20170302T120346Z
DESCRIPTION:Reporting due date
DTSTART;TZID=Europe/Paris:20171125T000000
DTEND;TZID=Europe/Paris:20171125T000000
LAST-MODIFIED:20170302T120346Z
SUMMARY:ESL online filing
URL;TYPE=URI:http://ltco.lu/content/esl-online-filing-9
END:VEVENT
BEGIN:VEVENT
UID:calendar.89.field_event_date.0@ltco.lu
DTSTAMP:20170621T210100Z
CREATED:20170302T120418Z
DESCRIPTION:Reporting due date
DTSTART;TZID=Europe/Paris:20171206T000000
DTEND;TZID=Europe/Paris:20171206T000000
LAST-MODIFIED:20170302T120418Z
SUMMARY:Intrastat reporting
URL;TYPE=URI:http://ltco.lu/content/intrastat-reporting-12
END:VEVENT
BEGIN:VEVENT
UID:calendar.90.field_event_date.0@ltco.lu
DTSTAMP:20170621T210100Z
CREATED:20170302T120457Z
DESCRIPTION:Tax Advances
DTSTART;TZID=Europe/Paris:20171210T000000
DTEND;TZID=Europe/Paris:20171210T000000
LAST-MODIFIED:20170302T120457Z
SUMMARY:CIT advances
URL;TYPE=URI:http://ltco.lu/content/cit-advances-2
END:VEVENT
BEGIN:VEVENT
UID:calendar.91.field_event_date.0@ltco.lu
DTSTAMP:20170621T210100Z
CREATED:20170302T135655Z
DESCRIPTION:Reporting + Payment due date
DTSTART;TZID=Europe/Paris:20171215T000000
DTEND;TZID=Europe/Paris:20171215T000000
LAST-MODIFIED:20170302T135655Z
SUMMARY:VAT reporting & payment and ESL paper filing
URL;TYPE=URI:http://ltco.lu/content/vat-reporting-payment-and-esl-paper-fil
 ing-10
END:VEVENT
BEGIN:VEVENT
UID:calendar.92.field_event_date.0@ltco.lu
DTSTAMP:20170621T210100Z
CREATED:20170302T135906Z
DESCRIPTION:Reporting due date
DTSTART;TZID=Europe/Paris:20171225T000000
DTEND;TZID=Europe/Paris:20171225T000000
LAST-MODIFIED:20170302T135906Z
SUMMARY:ESL online filing
URL;TYPE=URI:http://ltco.lu/content/esl-online-filing-10
END:VEVENT
BEGIN:VEVENT
UID:calendar.93.field_event_date.0@ltco.lu
DTSTAMP:20170621T210100Z
CREATED:20170302T135953Z
DESCRIPTION:Reporting + Payment due date
DTSTART;TZID=Europe/Paris:20171231T000000
DTEND;TZID=Europe/Paris:20171231T000000
LAST-MODIFIED:20170302T135953Z
SUMMARY:Recapitulative annual VAT reporting and payment - final deadline
URL;TYPE=URI:http://ltco.lu/content/recapitulative-annual-vat-reporting-and
 -payment-final-deadline
END:VEVENT
END:VCALENDAR
